BEGIN:VCALENDAR
VERSION:2.0
PRODID:-//Tukios.com/
BEGIN:VEVENT
UID:aedb0d70-e19d-4a78-a952-30c90e29aead@www.parkfuneralhomesinc.com
DTSTAMP:20260420T164355Z
DTSTART:20260424T150000Z
DTEND:20260424T163000Z
SUMMARY:David Hood Visitation
DESCRIPTION:
URL:https://www.parkfuneralhomesinc.com/obituaries/david-hood
LOCATION: 200 E Main St  Rochester IL 62563
GEO:39.7491577;-89.5343796
END:VEVENT
END:VCALENDAR